BEGIN:VCALENDAR
VERSION:2.0
PRODID:-//Olympia Historical Society and Bigelow House Museum - ECPv6.15.20//NONSGML v1.0//EN
CALSCALE:GREGORIAN
METHOD:PUBLISH
X-ORIGINAL-URL:https://olympiahistory.org
X-WR-CALDESC:Events for Olympia Historical Society and Bigelow House Museum
REFRESH-INTERVAL;VALUE=DURATION:PT1H
X-Robots-Tag:noindex
X-PUBLISHED-TTL:PT1H
BEGIN:VTIMEZONE
TZID:America/Los_Angeles
BEGIN:DAYLIGHT
TZOFFSETFROM:-0800
TZOFFSETTO:-0700
TZNAME:PDT
DTSTART:20250309T100000
END:DAYLIGHT
BEGIN:STANDARD
TZOFFSETFROM:-0700
TZOFFSETTO:-0800
TZNAME:PST
DTSTART:20251102T090000
END:STANDARD
BEGIN:DAYLIGHT
TZOFFSETFROM:-0800
TZOFFSETTO:-0700
TZNAME:PDT
DTSTART:20260308T100000
END:DAYLIGHT
BEGIN:STANDARD
TZOFFSETFROM:-0700
TZOFFSETTO:-0800
TZNAME:PST
DTSTART:20261101T090000
END:STANDARD
BEGIN:DAYLIGHT
TZOFFSETFROM:-0800
TZOFFSETTO:-0700
TZNAME:PDT
DTSTART:20270314T100000
END:DAYLIGHT
BEGIN:STANDARD
TZOFFSETFROM:-0700
TZOFFSETTO:-0800
TZNAME:PST
DTSTART:20271107T090000
END:STANDARD
END:VTIMEZONE
BEGIN:VEVENT
DTSTART;TZID=America/Los_Angeles:20260516T140000
DTEND;TZID=America/Los_Angeles:20260516T170000
DTSTAMP:20260424T063106
CREATED:20260409T071334Z
LAST-MODIFIED:20260409T090000Z
UID:10000001-1778940000-1778950800@olympiahistory.org
SUMMARY:Historic Olympia Celebrates America 250
DESCRIPTION:The Olympia Historical Society and Bigelow House Museum invite you to join us as Historic Olympia celebrates America 250! This once-in-a-lifetime celebration marks 250 years since the founding of the United States — and we can’t wait to celebrate this incredible milestone with our community. \nCome enjoy an afternoon at the beautiful Lord Mansion in Olympia’s South Capitol neighborhood\, where you’ll find delicious appetizers\, local beer and wine\, inspiring speakers\, and live music. Together\, we’ll honor Olympia’s rich history and its special place in the story of America. Space is limited\, so we encourage you to get your tickets soon! \nYou also won’t want to miss our in-person silent auction\, featuring an exciting mix of collectibles\, gift baskets\, wines\, art\, and local experiences. You’re welcome to come and go as you please — but for the best chance to take home your favorite items\, plan to stay until the very end! \nEvent Details:\n📅 Saturday\, May 16\n🕑 2:00 – 5:00 p.m.\n📍 The Lord Mansion\, 211 21st Avenue SW\, Olympia \nTickets are $75 per person\, and each ticket includes: \n\nA delicious spread of appetizers and desserts catered by Bite Me Catering of Olympia\nComplimentary beer and wine\nAccess to the silent auction with unique items and experiences\nEngaging talks about historic Olympia and its connections to U.S. history\nA special display of historic collectibles and curiosities from Dwight Moody\n\nAll event proceeds support our ongoing work to preserve and share Olympia’s history and maintain the historic Bigelow House Museum. The Olympia Historical Society and Bigelow House Museum is a certified 501(c)(3) organization. \nThank you for being part of our community and helping us keep Olympia’s history alive. We can’t wait to celebrate with you on May 16 at the Lord Mansion!
URL:https://olympiahistory.org/event/historic-olympia-celebrates-america-250/
LOCATION:The Lord Mansion\, 211 21st Ave SW\, Olympia\, WA\, 98501\, United States
ORGANIZER;CN="Olympia HIstorical Society and Bigelow House Museum":MAILTO:olyhistory@gmail.com
END:VEVENT
END:VCALENDAR